BEGIN:VCALENDAR
VERSION:2.0
PRODID:-//City Museum - ECPv6.15.18//NONSGML v1.0//EN
CALSCALE:GREGORIAN
METHOD:PUBLISH
X-ORIGINAL-URL:https://citymuseum.org
X-WR-CALDESC:Events for City Museum
REFRESH-INTERVAL;VALUE=DURATION:PT1H
X-Robots-Tag:noindex
X-PUBLISHED-TTL:PT1H
BEGIN:VTIMEZONE
TZID:America/Chicago
BEGIN:DAYLIGHT
TZOFFSETFROM:-0600
TZOFFSETTO:-0500
TZNAME:CDT
DTSTART:20230312T080000
END:DAYLIGHT
BEGIN:STANDARD
TZOFFSETFROM:-0500
TZOFFSETTO:-0600
TZNAME:CST
DTSTART:20231105T070000
END:STANDARD
BEGIN:DAYLIGHT
TZOFFSETFROM:-0600
TZOFFSETTO:-0500
TZNAME:CDT
DTSTART:20240310T080000
END:DAYLIGHT
BEGIN:STANDARD
TZOFFSETFROM:-0500
TZOFFSETTO:-0600
TZNAME:CST
DTSTART:20241103T070000
END:STANDARD
BEGIN:DAYLIGHT
TZOFFSETFROM:-0600
TZOFFSETTO:-0500
TZNAME:CDT
DTSTART:20250309T080000
END:DAYLIGHT
BEGIN:STANDARD
TZOFFSETFROM:-0500
TZOFFSETTO:-0600
TZNAME:CST
DTSTART:20251102T070000
END:STANDARD
END:VTIMEZONE
BEGIN:VEVENT
DTSTART;TZID=America/Chicago:20240128T000000
DTEND;TZID=America/Chicago:20240414T235959
DTSTAMP:20260422T170903
CREATED:20240118T021538Z
LAST-MODIFIED:20240228T182018Z
UID:3203-1706400000-1713139199@citymuseum.org
SUMMARY:The Science of Guinness World Records
DESCRIPTION:Achieve Amazing \n\n\n\nBe amazed. Be amazing. Come to our newest exhibition\, The Science of Guinness World Records. Discover the world’s greatest record holders\, what it took to cement their names in in the history books\, and potentially become a part of history yourself! \n\n\n\nAll around the world\, people are pushing themselves to achieve new and amazing things. From the world’s longest mustache (14 feet!)\, to the most drum beats in 60 seconds (over 2100 beats… or 35 per second!)\, to the most consecutive pinky pull-ups (36!)\, the world is full of fascinating people achieving strange and incredible feats. \n\n\n\nNow\, for the first time ever\, we’re looking into the science behind these mesmerizing accomplishments with our new The Science of Guinness World Records exhibition. \n\n\n\n\n\n\n\nGo behind the scenes to see what it takes. Hear the stories of those who set out to break ground and succeeded. Learn the secrets\, then try it out for yourself. Challenge your friends\, your family\, your classmates\, or even other visitors. \n\n\n\nSet new records. Challenge old ones. Make the history books. \n\n\n\nFame and glory await those with the talent\, courage\, and tenacity to become #1. Be sure to check the event schedule for your opportunity to impress actual GUINNESS WORLD RECORDSTM adjudicators and become OFFICIALLY AMAZINGTM. \n\n\n\nIt’s your turn\, St. Louis. Achieve Amazing. \n\n\n\n\n\n\n\n \n\n\n\n#AchieveAmazing \n\n\n\nProduced by: \n\n\n\n      \n\n\n\nOh\, look! We’re in the news!\n\n\n\n \n\n\n\nKMOX-AM – The Science of Guinness World Records at City Museum – Hancock and Kelley – Omny.fm \n\n\n\nFOX2 – Play some Pacman at the City Museum \n\n\n\nFOX2 – Tim’s Travels: Learn about Guinness World Records at the City Museum \n\n\n\nSt. Louis Post Dispatch – Guinness World Records exhibit comes to City Museum (stltoday.com) \n\n\n\nSt. Louis Post Dispatch – World records abound in the St. Louis area. Many aren’t even sports-related. (stltoday.com) \n\n\n\nSTL-TV – The Daily Mix: City Museum (January 29\, 2024) (youtube.com) (start at 10:50 for City Museum) \n\n\n\nCarneyShow – 02.05.24 Carl Weathers\, Martin Kilcoyne\, Alison Arngrim\, John Corcoran in The John Carney Show (soundcloud.com) (start at 26:00 mark for City Museum) \n\n\n\nKSDK – World Record Exhibit Opens at City Museum
URL:https://citymuseum.org/event/the-science-of-guinness-world-records/
ATTACH;FMTTYPE=image/jpeg:https://citymuseum.org/wp-content/uploads/2024/01/GWR-Reaction-sq-215.jpg
END:VEVENT
BEGIN:VEVENT
DTSTART;TZID=America/Chicago:20240201T000000
DTEND;TZID=America/Chicago:20240225T235959
DTSTAMP:20260422T170903
CREATED:20240119T033057Z
LAST-MODIFIED:20240227T180031Z
UID:3233-1706745600-1708905599@citymuseum.org
SUMMARY:Tunnel of Love
DESCRIPTION:Love is in the air at City Museum this February! Join us for a month-long celebration filled with enchanting experiences and romantic adventures that will make your heart skip a beat.\n\n\n\n\n\n\n\nTunnel of Love: Step into a world of romance as you stroll through our enchanting Tunnel of Love located in the Vault Room. This heart-shaped light exhibit is the perfect backdrop for magical moments and Instagram-worthy photos. Share the love with your special someone\, friends\, or family as you immerse yourselves in the warm glow of this captivating display. \n\n\n\nValentine’s Day Drinks: Indulge in the spirit of love with our specially crafted Valentine’s Day-themed drinks. Sip on delightful concoctions that will tickle your taste buds and set the mood for a memorable evening. Whether you’re a cocktail connoisseur or prefer a non-alcoholic treat\, our drink menu is designed to add a touch of sweetness to your City Museum experience. \n\n\n\nDon’t miss the chance to celebrate love and Valentine’s Day at City Museum in St. Louis. Whether you’re on a romantic date or enjoying quality time with family and friends\, our February festivities are designed to fill your heart with joy and create lasting memories. Come share the love with us!
URL:https://citymuseum.org/event/tunnel-of-love-3/
ATTACH;FMTTYPE=image/png:https://citymuseum.org/wp-content/uploads/2024/01/Tunnel-of-Love-2024.png
END:VEVENT
BEGIN:VEVENT
DTSTART;TZID=America/Chicago:20240202T000000
DTEND;TZID=America/Chicago:20240303T235959
DTSTAMP:20260422T170903
CREATED:20240131T041045Z
LAST-MODIFIED:20240229T173119Z
UID:3351-1706832000-1709510399@citymuseum.org
SUMMARY:Blessed by the Ancestors
DESCRIPTION:“Blessed by the Ancestors” is a captivating art exhibit that celebrates the rich artistic talent of Black artists hailing from Saint Louis\, MO. This exhibition serves as a powerful testament to the cultural heritage and creative brilliance within the local Black community. Showcasing a diverse range of artistic expressions\, the exhibit explores themes such as identity\, heritage\, resilience\, and the profound connections between the artists and their ancestors. \n\n\n\nCurated by Brock Seals\, this collection includes paintings\, sculptures\, mixed media pieces\, and other forms of visual art that reflect the unique perspectives and experiences of the featured artists. Visitors to the exhibit can expect to encounter a vibrant tapestry of storytelling through art\, each piece contributing to a larger narrative that pays homage to the ancestry that has shaped and inspired the artists. \n\n\n\n\n\n\n\n“Elemental” Leather Acrylic on Shoe Brock Seals \n\n\n\n\n\n\n\n“Glory on Her”Mixed Media Alisha Renay \n\n\n\n\n\n\n\n“Durag”Acrylic on CanvasThe Art Doll \n\n\n\n\n\n\n\n“Somewhere in Harlem”Mixed MediaJonnie The Gracious \n\n\n\nFrom bold and thought-provoking pieces that challenge societal norms to evocative works that celebrate the beauty of Black culture\, “Blessed by the Ancestors” aims to provide a platform for local artists to share their voices and contribute to the ongoing dialogue around representation in the art world. The exhibit not only serves as a showcase of talent but also as a space for reflection and connection\, fostering a sense of community pride and appreciation for the artistic heritage of Saint Louis\, MO. \n\n\n\nOh\, look! We’re in the news!\n\n\n\n \n\n\n\nRiverfront Times – City Museum Highlights Black St. Louis Artists in Blessed by the Ancestors \n\n\n\nGazelle Magazine – Happenings: Black History Month 2024 \n\n\n\nMissouri Life – City Museum Commemorates Black History Month With Art \n\n\n\nFOX2 – Check out the ‘Blessed By Ancestors’ exhibit now through March 4 at City Museum (video below)
URL:https://citymuseum.org/event/blessed-by-the-ancestors-2024/
ATTACH;FMTTYPE=image/jpeg:https://citymuseum.org/wp-content/uploads/2024/01/Blessed-by-the-Ancestors-4.jpg
END:VEVENT
END:VCALENDAR