BEGIN:VCALENDAR
VERSION:2.0
PRODID:-//City Museum - ECPv6.15.18//NONSGML v1.0//EN
CALSCALE:GREGORIAN
METHOD:PUBLISH
X-ORIGINAL-URL:https://citymuseum.org
X-WR-CALDESC:Events for City Museum
REFRESH-INTERVAL;VALUE=DURATION:PT1H
X-Robots-Tag:noindex
X-PUBLISHED-TTL:PT1H
BEGIN:VTIMEZONE
TZID:America/Chicago
BEGIN:DAYLIGHT
TZOFFSETFROM:-0600
TZOFFSETTO:-0500
TZNAME:CDT
DTSTART:20230312T080000
END:DAYLIGHT
BEGIN:STANDARD
TZOFFSETFROM:-0500
TZOFFSETTO:-0600
TZNAME:CST
DTSTART:20231105T070000
END:STANDARD
BEGIN:DAYLIGHT
TZOFFSETFROM:-0600
TZOFFSETTO:-0500
TZNAME:CDT
DTSTART:20240310T080000
END:DAYLIGHT
BEGIN:STANDARD
TZOFFSETFROM:-0500
TZOFFSETTO:-0600
TZNAME:CST
DTSTART:20241103T070000
END:STANDARD
BEGIN:DAYLIGHT
TZOFFSETFROM:-0600
TZOFFSETTO:-0500
TZNAME:CDT
DTSTART:20250309T080000
END:DAYLIGHT
BEGIN:STANDARD
TZOFFSETFROM:-0500
TZOFFSETTO:-0600
TZNAME:CST
DTSTART:20251102T070000
END:STANDARD
END:VTIMEZONE
BEGIN:VEVENT
DTSTART;TZID=America/Chicago:20240128T000000
DTEND;TZID=America/Chicago:20240414T235959
DTSTAMP:20260420T074356
CREATED:20240118T021538Z
LAST-MODIFIED:20240228T182018Z
UID:3203-1706400000-1713139199@citymuseum.org
SUMMARY:The Science of Guinness World Records
DESCRIPTION:Achieve Amazing \n\n\n\nBe amazed. Be amazing. Come to our newest exhibition\, The Science of Guinness World Records. Discover the world’s greatest record holders\, what it took to cement their names in in the history books\, and potentially become a part of history yourself! \n\n\n\nAll around the world\, people are pushing themselves to achieve new and amazing things. From the world’s longest mustache (14 feet!)\, to the most drum beats in 60 seconds (over 2100 beats… or 35 per second!)\, to the most consecutive pinky pull-ups (36!)\, the world is full of fascinating people achieving strange and incredible feats. \n\n\n\nNow\, for the first time ever\, we’re looking into the science behind these mesmerizing accomplishments with our new The Science of Guinness World Records exhibition. \n\n\n\n\n\n\n\nGo behind the scenes to see what it takes. Hear the stories of those who set out to break ground and succeeded. Learn the secrets\, then try it out for yourself. Challenge your friends\, your family\, your classmates\, or even other visitors. \n\n\n\nSet new records. Challenge old ones. Make the history books. \n\n\n\nFame and glory await those with the talent\, courage\, and tenacity to become #1. Be sure to check the event schedule for your opportunity to impress actual GUINNESS WORLD RECORDSTM adjudicators and become OFFICIALLY AMAZINGTM. \n\n\n\nIt’s your turn\, St. Louis. Achieve Amazing. \n\n\n\n\n\n\n\n \n\n\n\n#AchieveAmazing \n\n\n\nProduced by: \n\n\n\n      \n\n\n\nOh\, look! We’re in the news!\n\n\n\n \n\n\n\nKMOX-AM – The Science of Guinness World Records at City Museum – Hancock and Kelley – Omny.fm \n\n\n\nFOX2 – Play some Pacman at the City Museum \n\n\n\nFOX2 – Tim’s Travels: Learn about Guinness World Records at the City Museum \n\n\n\nSt. Louis Post Dispatch – Guinness World Records exhibit comes to City Museum (stltoday.com) \n\n\n\nSt. Louis Post Dispatch – World records abound in the St. Louis area. Many aren’t even sports-related. (stltoday.com) \n\n\n\nSTL-TV – The Daily Mix: City Museum (January 29\, 2024) (youtube.com) (start at 10:50 for City Museum) \n\n\n\nCarneyShow – 02.05.24 Carl Weathers\, Martin Kilcoyne\, Alison Arngrim\, John Corcoran in The John Carney Show (soundcloud.com) (start at 26:00 mark for City Museum) \n\n\n\nKSDK – World Record Exhibit Opens at City Museum
URL:https://citymuseum.org/event/the-science-of-guinness-world-records/
ATTACH;FMTTYPE=image/jpeg:https://citymuseum.org/wp-content/uploads/2024/01/GWR-Reaction-sq-215.jpg
END:VEVENT
BEGIN:VEVENT
DTSTART;TZID=America/Chicago:20240228T000000
DTEND;TZID=America/Chicago:20240523T235959
DTSTAMP:20260420T074356
CREATED:20240212T163053Z
LAST-MODIFIED:20240319T142837Z
UID:3464-1709078400-1716508799@citymuseum.org
SUMMARY:2024 Seasonal Hiring
DESCRIPTION:City Museum is an ever-evolving\, always-thrilling\, artist-built playground full of weird spaces to explore\, and we’re always looking for new faces to add to our team! We’re hosting Open Interviews for Retail\, Food & Beverage\, Floor Staff\, Facilities and other roles this Spring and Summer. \n\n\n\n\n\n\n\nTo participate in an Open Interview\, check in at the Front Desk anytime during the below dates and times: \n\n\n\nMarch-April\n\n\n\nMondays\, Wednesdays\, and Thursdays*Except Monday\, March 42pm – 5pm \n\n\n\nMay\n\n\n\nMondays\, Wednesdays\, and Thursdays*Ends Thursday\, May 232pm – 5pm
URL:https://citymuseum.org/event/2024-seasonal-hiring/
ATTACH;FMTTYPE=image/jpeg:https://citymuseum.org/wp-content/uploads/2024/02/2024-Hiring.jpg
END:VEVENT
BEGIN:VEVENT
DTSTART;TZID=America/Chicago:20240301T000000
DTEND;TZID=America/Chicago:20240601T235959
DTSTAMP:20260420T074356
CREATED:20240215T221411Z
LAST-MODIFIED:20240530T195516Z
UID:3529-1709251200-1717286399@citymuseum.org
SUMMARY:Upcycled Garden
DESCRIPTION:Attaboy\, cofounder of contemporary art magazine Hi-Fructose\, comes to City Museum in downtown St. Louis! \n\n\n\nThe Upcycled Garden installation is an ever-growing and touring concept by Daniel “Attaboy” Seifert\, featuring locally sourced recycled cardboard\, house paint\, and spray paint remnants. While beautiful and organic on the outside\, underneath is a visual diary of the consumption – packaging from gluten-free pizza\, Covid tests\, light bulbs\, and assorted Amazon shipments – that is part of their creation. \n\n\n\nAttaboy started experimenting with these creations as a way to cope with Covid lockdown and rising costs of living\, as well as a therapy for PTSD and a neurological condition he suffered after a car accident. Attaboy does little to no planning prior to starting work on any particular piece\, as he finds the open-ended play of constructing them soothing. Different shapes\, styles\, and groupings of the sculptures are being created all the time\, and the installation is set to grow in 2024 and beyond. \n\n\n\n“I’m thrilled to bring this ever-evolving idea to the visitors of City Museum. I love when art circumvents the usual channels and is made accessible to everyone\,” Attaboy said. “I believe that art can change the way that you respond to the world that you live in and how you operate in it. City Museum embodies this spirit and I’m all too happy to add to its mission in this way\, if only for a few months.” \n\n\n\nThe Upcycled Garden began at a converted mortuary turned gallery in Oakland and has been exhibited at: Uma Gallery\, The Brea City Gallery\, Mainstreet LA\, Art Thou Gallery\, and more. \n\n\n\nJoin us at the opening reception on March 1\, 5-9pm to meet the artist!  \n\n\n\n4th floor in Sullivan Architecture Gallery. General Admission is required. \n\n\n\n\n\n\n\n\n\n\n\n\n\n	\n			\n						\n				\n																	\n			\n						\n				\n																	\n			\n						\n				\n																	\n			\n						\n				\n																	\n			\n						\n				\n																	\n			\n						\n				\n																	\n			\n						\n				\n																	\n			\n					\n						Previous\n		Next\n		\n		\n\n	\n\n\nOh\, look! We’re in the news!\n\n\n\n \n\n\n\nThe St. Louisan – Innovative Art Installation “The Upcycled Garden” by Daniel Attaboy Seifert Arrives at City Museum \n\n\n\nFOX2 – Artist Daniel ‘Attaboy’ Seifert shares inspiration behind cardboard-constructed sculptures \n\n\n\nSt. Louis Magazine – 10 Art Exhibits to Catch this Month \n\n\n\nSt. Louis Patina – Upcycled Garden at the City Museum \n\n\n\nLadue News – City Museum debuts a playful art installation made of everyday objects
URL:https://citymuseum.org/event/upcycled-garden/
ATTACH;FMTTYPE=image/jpeg:https://citymuseum.org/wp-content/uploads/2024/02/Upcycled-Garden-sq.jpg
END:VEVENT
BEGIN:VEVENT
DTSTART;TZID=America/Chicago:20240311T000000
DTEND;TZID=America/Chicago:20240407T235959
DTSTAMP:20260420T074356
CREATED:20240119T033757Z
LAST-MODIFIED:20240119T033912Z
UID:3237-1710115200-1712534399@citymuseum.org
SUMMARY:Spring Break in the City
DESCRIPTION:Get ready for an epic Spring Break adventure at City Museum in St. Louis – the #1 must-see attraction that promises excitement and thrills for the entire family! With four floors of indoor museum fun\, the iconic MonstroCity exterior attraction\, and breathtaking views from the Rooftop\, your Spring Break will be nothing short of spectacular. \n\n\n\n\n\n\n\nDive into a world of wonder as you explore four floors of indoor excitement at City Museum. From interactive exhibits to hidden passages\, there’s something for every adventurer in the family. Unleash your creativity\, climb through tunnels\, and discover the unexpected at every turn. \n\n\n\nElevate your Spring Break experience with the best view in the city from our Rooftop. Marvel at the skyline of St. Louis as you enjoy a panoramic vista that will take your breath away. It’s the perfect spot to capture memorable photos and soak in the beauty of the city. \n\n\n\nMake City Museum in St. Louis the highlight of your Spring Break adventure! With indoor wonders\, outdoor escapades\, and views that will leave you speechless\, we’re ready to make your break unforgettable. Join us for a week of family fun\, exploration\, and endless surprises!
URL:https://citymuseum.org/event/spring-break-in-the-city/
ATTACH;FMTTYPE=image/png:https://citymuseum.org/wp-content/uploads/2024/01/Spring-Break-2024.png
END:VEVENT
END:VCALENDAR