BEGIN:VCALENDAR
VERSION:2.0
PRODID:-//City Museum - ECPv6.15.18//NONSGML v1.0//EN
CALSCALE:GREGORIAN
METHOD:PUBLISH
X-ORIGINAL-URL:https://citymuseum.org
X-WR-CALDESC:Events for City Museum
REFRESH-INTERVAL;VALUE=DURATION:PT1H
X-Robots-Tag:noindex
X-PUBLISHED-TTL:PT1H
BEGIN:VTIMEZONE
TZID:America/Chicago
BEGIN:DAYLIGHT
TZOFFSETFROM:-0600
TZOFFSETTO:-0500
TZNAME:CDT
DTSTART:20230312T080000
END:DAYLIGHT
BEGIN:STANDARD
TZOFFSETFROM:-0500
TZOFFSETTO:-0600
TZNAME:CST
DTSTART:20231105T070000
END:STANDARD
BEGIN:DAYLIGHT
TZOFFSETFROM:-0600
TZOFFSETTO:-0500
TZNAME:CDT
DTSTART:20240310T080000
END:DAYLIGHT
BEGIN:STANDARD
TZOFFSETFROM:-0500
TZOFFSETTO:-0600
TZNAME:CST
DTSTART:20241103T070000
END:STANDARD
BEGIN:DAYLIGHT
TZOFFSETFROM:-0600
TZOFFSETTO:-0500
TZNAME:CDT
DTSTART:20250309T080000
END:DAYLIGHT
BEGIN:STANDARD
TZOFFSETFROM:-0500
TZOFFSETTO:-0600
TZNAME:CST
DTSTART:20251102T070000
END:STANDARD
END:VTIMEZONE
BEGIN:VEVENT
DTSTART;TZID=America/Chicago:20241031T000000
DTEND;TZID=America/Chicago:20241031T235959
DTSTAMP:20260425T065603
CREATED:20241030T171158Z
LAST-MODIFIED:20241030T171159Z
UID:5424-1730332800-1730419199@citymuseum.org
SUMMARY:Happy Halloween!
DESCRIPTION:Whether you’re planning a hauntingly good celebration or just enjoying the autumn vibes\, all of us at City Museum want to wish you a safe and fun Halloween! \n\n\n\nWe’ve completed another successful ‘Fright at the Museum’ for the year\, but you’ll still see a few silly and spooky decorations floating around for a few more days. We’ll be open 10am–6pm\, and the staff will be handing out candy at the front desk and some of the bigger slides\, while supplies last. \n\n\n\nWe will be wearing our costumes\, and we hope you do too! Tag us in your weirdly wonderful Halloween photos (@citymuseum) so we can share them! Please note that we do not allow masks\, capes\, or weapons. \n\n\n\nIncluded with Member Pass or General Admission.
URL:https://citymuseum.org/event/happy-halloween/
ATTACH;FMTTYPE=image/jpeg:https://citymuseum.org/wp-content/uploads/2024/10/Halloween-Pumpkins-SQ.jpg
END:VEVENT
END:VCALENDAR