BEGIN:VCALENDAR
VERSION:2.0
PRODID:-//City Museum - ECPv6.15.18//NONSGML v1.0//EN
CALSCALE:GREGORIAN
METHOD:PUBLISH
X-WR-CALNAME:City Museum
X-ORIGINAL-URL:https://citymuseum.org
X-WR-CALDESC:Events for City Museum
REFRESH-INTERVAL;VALUE=DURATION:PT1H
X-Robots-Tag:noindex
X-PUBLISHED-TTL:PT1H
BEGIN:VTIMEZONE
TZID:America/Chicago
BEGIN:DAYLIGHT
TZOFFSETFROM:-0600
TZOFFSETTO:-0500
TZNAME:CDT
DTSTART:20240310T080000
END:DAYLIGHT
BEGIN:STANDARD
TZOFFSETFROM:-0500
TZOFFSETTO:-0600
TZNAME:CST
DTSTART:20241103T070000
END:STANDARD
BEGIN:DAYLIGHT
TZOFFSETFROM:-0600
TZOFFSETTO:-0500
TZNAME:CDT
DTSTART:20250309T080000
END:DAYLIGHT
BEGIN:STANDARD
TZOFFSETFROM:-0500
TZOFFSETTO:-0600
TZNAME:CST
DTSTART:20251102T070000
END:STANDARD
BEGIN:DAYLIGHT
TZOFFSETFROM:-0600
TZOFFSETTO:-0500
TZNAME:CDT
DTSTART:20260308T080000
END:DAYLIGHT
BEGIN:STANDARD
TZOFFSETFROM:-0500
TZOFFSETTO:-0600
TZNAME:CST
DTSTART:20261101T070000
END:STANDARD
END:VTIMEZONE
BEGIN:VEVENT
DTSTART;TZID=America/Chicago:20250613T000000
DTEND;TZID=America/Chicago:20250831T235959
DTSTAMP:20260421T094018
CREATED:20250502T195845Z
LAST-MODIFIED:20250502T203615Z
UID:6838-1749772800-1756684799@citymuseum.org
SUMMARY:Bubble Unit: Pop Art and Fashion
DESCRIPTION:Join us in Beatnik Bob’s for the opening of ‘Bubble Unit: Pop Art and Fashion’\, an art exhibit curated by Cranky Yellow. The exhibit is showcasing local artists and designers utilizing color\, graphics\, shape\, sculpture\, and wearables to depict new pop ideas and culture. \n\n\n\nExhibit DatesFriday\, June 13 – Sunday\, August 31 \n\n\n\nOpening ReceptionFriday\, June 13 from 7pm-11pm at City Nights: Pride (21+) \n\n\n\nBeatnik Bob’s on 3rd Floor. Exhibit included with General Admission or Member Pass\, and Opening Reception included with City Nights: Pride admission.
URL:https://citymuseum.org/event/bubble-unit-cranky-yellow/
ATTACH;FMTTYPE=image/jpeg:https://citymuseum.org/wp-content/uploads/2025/05/Bubble-Unit-SQ.jpg
END:VEVENT
BEGIN:VEVENT
DTSTART;TZID=America/Chicago:20250718T000000
DTEND;TZID=America/Chicago:20250720T235959
DTSTAMP:20260421T094018
CREATED:20250715T210021Z
LAST-MODIFIED:20250715T220649Z
UID:7224-1752796800-1753055999@citymuseum.org
SUMMARY:City Museum Goes Bananas ...Take 2!
DESCRIPTION:Remember when we set the GUINNESS WORLD RECORDS™ title for Most People Wearing Banana Hats to celebrate the Savannah Bananas coming to town in April? Well\, spring showers turned into rained-out baseball\, and the Savannah Bananas rescheduled for July 18-19. To celebrate their return (and hopefully better weather)\, we’re Going Bananas… take 2! \n\n\n\nWhen you’re heading in town for some Banana Ball\, peel off for a detour to City Museum! Show us your Savannah Bananas ticket at the Ticket Window to get $5 off General Admission this weekend. \n\n\n\nOnce you’re ready for a break from the climbing and sliding\, slip into the Gift Shop for some a-peel-ing banana gear! You’ll be top banana with one of our banana hats (the same kind we wore for our record-setting event)\, shirts\, earrings\, keychains\, and more to help you go bananas about Going Bananas. \n\n\n\nAnd of course nothing is more Bananas than… bananas! Enjoy banana-themed and/or flavored cocktails and beer\, as well as banana candy\, baked goods\, desserts\, and more. \n\n\n\nIt’ll be a bunch of fun! \n\n\n\nGo Bananas discount includes one General Admission ticket for $18 (regular price $23) at the Ticket Window. Must show valid Savannah Bananas at Busch Stadium ticket to receive discount.
URL:https://citymuseum.org/event/go-bananas-take2/
ATTACH;FMTTYPE=image/jpeg:https://citymuseum.org/wp-content/uploads/2025/07/GWR-Bananas-SQ.jpg
END:VEVENT
END:VCALENDAR