BEGIN:VCALENDAR
VERSION:2.0
PRODID:-//City Museum - ECPv6.15.18//NONSGML v1.0//EN
CALSCALE:GREGORIAN
METHOD:PUBLISH
X-WR-CALNAME:City Museum
X-ORIGINAL-URL:https://citymuseum.org
X-WR-CALDESC:Events for City Museum
REFRESH-INTERVAL;VALUE=DURATION:PT1H
X-Robots-Tag:noindex
X-PUBLISHED-TTL:PT1H
BEGIN:VTIMEZONE
TZID:America/Chicago
BEGIN:DAYLIGHT
TZOFFSETFROM:-0600
TZOFFSETTO:-0500
TZNAME:CDT
DTSTART:20250309T080000
END:DAYLIGHT
BEGIN:STANDARD
TZOFFSETFROM:-0500
TZOFFSETTO:-0600
TZNAME:CST
DTSTART:20251102T070000
END:STANDARD
BEGIN:DAYLIGHT
TZOFFSETFROM:-0600
TZOFFSETTO:-0500
TZNAME:CDT
DTSTART:20260308T080000
END:DAYLIGHT
BEGIN:STANDARD
TZOFFSETFROM:-0500
TZOFFSETTO:-0600
TZNAME:CST
DTSTART:20261101T070000
END:STANDARD
BEGIN:DAYLIGHT
TZOFFSETFROM:-0600
TZOFFSETTO:-0500
TZNAME:CDT
DTSTART:20270314T080000
END:DAYLIGHT
BEGIN:STANDARD
TZOFFSETFROM:-0500
TZOFFSETTO:-0600
TZNAME:CST
DTSTART:20271107T070000
END:STANDARD
END:VTIMEZONE
BEGIN:VEVENT
DTSTART;TZID=America/Chicago:20260306T000000
DTEND;TZID=America/Chicago:20260306T235959
DTSTAMP:20260421T113711
CREATED:20260129T053713Z
LAST-MODIFIED:20260227T071111Z
UID:7828-1772755200-1772841599@citymuseum.org
SUMMARY:City Nights: Y2K
DESCRIPTION:Buy Tickets\n\n\n\n\n\nFriday\, March 6 from 7pm–11pm\n\n\n\nTonight we’re gonna party like it’s 1999 — yes\, we’re reliving the excitement of the turn of the Millennium! The good news: Everyone’s computers made the jump from the 1900s to 2000s without crashing any mainframes or firing any missiles\, plus barrel leg and low-rise jeans are finally making a comeback. The bad news: Neither of those fashion choices are going to serve you well on the slides and climbers. \n\n\n\nIf you don’t believe us\, just ask your nearest Millennial (you can find us over by the avocado toast) — we’ll tell you to put on your best bucket hat and puka shell necklace\, set an away message\, and don’t forget to feed your Tamagotchi\, because we’re dancing into the future of the past tonight! \n\n\n\n\nTurn the tables: Groove is in the heart. It’s also coming from the speakers\, with 18&counting and 314DJ keeping you dancing for the next thousand years\n\n\n\nPlay all day\, party all night: Your event ticket includes General Admission for the full day of the event\, so you can arrive as eagerly early or fashionably late as you wish\n\n\n\nAdults only: We’re closing early so you can party! City Museum will be fully open (outdoor areas depending on weather) during City Nights\, so those slides\, climbers\, and ramps are all yours to explore\n\n\n\nArts and crafts: Grab your glue sticks\, Art City is here to help you collage your own customized button or other crafty keepsake\n\n\n\nFull belly\, happy heart: Food\, drinks\, beer\, and cocktails will be available for purchase throughout the museum\n\n\n\nHands-on experience: Sample new 4 Hands Brewing products\, including the City Museum Pilsner and Hard Seltzer!\n\n\n\n\nBuy Tickets\n\n\n\n \n\n\n\nCity Nights events are 21+ only with valid ID. Limited tickets will be available at the Ticket Window on the day of the event\, and your ticket includes General Admission for that day. \n\n\n\nMembers get in FREE! Not a member yet? Get your Member Pass now! \n\n\n\n\n\nOh\, look! We’re in the news!\n\n\n\n \n\n\n\nFOX2 — Clownvis sings love songs
URL:https://citymuseum.org/event/city-nights-y2k-2026/
CATEGORIES:City Nights
ATTACH;FMTTYPE=image/jpeg:https://citymuseum.org/wp-content/uploads/2026/01/0306-Y2K.jpg
END:VEVENT
END:VCALENDAR